BEGIN:VCALENDAR
VERSION:2.0
PRODID:-//Library Market//iCal Export//EN
BEGIN:VEVENT
SUMMARY:Healing from the Arts: Art Exhibition with Interlochen&#039;s Stud
 ents Demand Action Group
UID:29971
DTSTAMP:20260419T172800Z
DTSTART:20260425T180000Z
DTEND:20260425T200000Z
LOCATION:Main Library - Traverse City, 610 Woodmere Ave., Traverse City, M
 I 49686, United States
ROOM: McGuire Community Room
DESCRIPTION:Interlochen’s Students Demand Action (SDA) group will presen
 t an evocative exhibition of student voices. High school artists reflect o
 n their lived experiences with the aftermath of gun violence, expressed th
 rough diverse creative mediums. You can expect to enjoy music and spoken 
 word art during this afternoon program.
URL:https://www.tadl.org/SDAExhibit
END:VEVENT
END:VCALENDAR
