BEGIN:VCALENDAR
VERSION:2.0
PRODID:-//Library Market//iCal Export//EN
BEGIN:VEVENT
SUMMARY:Introducing Press Forward Northern Michigan
UID:31139
DTSTAMP:20260424T034000Z
DTSTART:20260601T220000Z
DTEND:20260601T233000Z
LOCATION:Main Library - Traverse City, 610 Woodmere Ave., Traverse City, M
 I 49686, United States
ROOM: McGuire Community Room
DESCRIPTION:We&#039;re Press Forward Northern Michigan and we believe that
  strong local news and strong communities go hand in hand. Join us to lear
 n how we are working to support sustainable models for local news and clos
 ing information gaps in Northern Michigan. Hear the results of our recent
  community survey asking YOU what you wanted from your local news. And fin
 d out how you can join us in our work! 
URL:https://www.tadl.org/PressForward
END:VEVENT
END:VCALENDAR
