BEGIN:VCALENDAR
VERSION:2.0
PRODID:-//Library Market//iCal Export//EN
BEGIN:VEVENT
SUMMARY:East Bay Book Club
UID:31894
DTSTAMP:20260419T211900Z
DTSTART:20260526T220000Z
DTEND:20260526T230000Z
LOCATION:East Bay Branch Library, 1989 Three Mile Rd., Traverse City, MI 4
 9686, United States
ROOM: East Bay Book Club
DESCRIPTION:Join us for a relaxed and friendly book discussion in the Nort
 h Conference Room of the East Bay Township Building, across the parking lo
 t from the East Bay Branch Library. Everyone is welcome!The book selection
  this month is The Wishing Game by Meg Shaffer. Get it from TADL, MELCat,
  or Libby (through partner libraries). 
URL:https://www.tadl.org/event/east-bay-book-club-31894
END:VEVENT
END:VCALENDAR
