BEGIN:VCALENDAR
VERSION:2.0
PRODID:-//Library Market//iCal Export//EN
BEGIN:VEVENT
SUMMARY:Star Wars Day
UID:31906
DTSTAMP:20260423T214800Z
DTSTART:20260502T140000Z
DTEND:20260502T160000Z
LOCATION:Main Library - Traverse City, 610 Woodmere Ave., Traverse City, M
 I 49686, United States
ROOM: Story Room - Youth Services
DESCRIPTION:All young Jedis are encouraged to fly into Youth Services as w
 e celebrate Star Wars Day, with crafts, snacks and Star Wars-themed storie
 s. If you have a favorite Star Wars costume, get dressed up, have your pho
 to taken &quot;on the moon&quot; in front of our space backdrop and meet o
 ther Star Wars fans. 
URL:https://www.tadl.org/event/star-wars-storytime-31906
END:VEVENT
END:VCALENDAR
