BEGIN:VCALENDAR
VERSION:2.0
PRODID:-//Library Market//iCal Export//EN
BEGIN:VEVENT
SUMMARY:STEAM/Maker Alliance for NW MI: Monthly Meeting
UID:31909
DTSTAMP:20260423T132100Z
DTSTART:20260505T130000Z
DTEND:20260505T140000Z
LOCATION:Main Library - Traverse City, 610 Woodmere Ave., Traverse City, M
 I 49686, United States
ROOM: McGuire Community Room
DESCRIPTION:Monthly meeting of the STEAM/Maker Alliance, a group of STEM e
 ducators who meet to discuss best practices, develop programs like MakerFe
 st and STEM Pop-up events, and be aware of STEM offerings in our community
 .We do visit other organizations for meetings in non-TADL hosted months, s
 o please reach out to Andy Schuck at TADL to receive information other STE
 AM/Maker meetings (aschuck@tadl.org).
URL:https://www.tadl.org/event/steammaker-alliance-nw-mi-monthly-meeting-3
 1909
END:VEVENT
END:VCALENDAR
