BEGIN:VCALENDAR
VERSION:2.0
PRODID:-//Library Market//iCal Export//EN
BEGIN:VEVENT
SUMMARY:It Takes a Fleet
UID:31912
DTSTAMP:20260424T002600Z
DTSTART:20260509T140000Z
DTEND:20260509T160000Z
LOCATION:The Little Fleet, 448 E Front St, Traverse CIty, MI 49684, United
  States
ROOM: It Takes a Fleet
DESCRIPTION:Raising small humans is not an easy task. But you don’t have
  to do it alone. Join Little Fleet for a Saturday morning full of communit
 y building, parent empowerment, and hands-on activities for kids.“It Tak
 es A Fleet” is a chance to ask local specialist the questions that keep 
 you up at night, and to engage with other local families as we read books,
  play games, and meet new friends.Interact with GTDA, Gold Consulting and 
 Advocacy, Full Tilt Comedy, Traverse Area District Library, The Butterfly 
 Foundation, Care o Van and more.Find TADL&#039;s Bookmobile at The Little 
 Fleet for this special family literacy event!*This event will be at The Li
 ttle Fleet, 448 E Front St, Traverse City, MI 49686. 
URL:https://www.tadl.org/event/it-takes-fleet-31912
END:VEVENT
END:VCALENDAR
